BEGIN:VCALENDAR
VERSION:2.0
PRODID:-//Calgary Horseshoe Club - ECPv6.15.20//NONSGML v1.0//EN
CALSCALE:GREGORIAN
METHOD:PUBLISH
X-WR-CALNAME:Calgary Horseshoe Club
X-ORIGINAL-URL:https://calgaryhorseshoeclub.ca
X-WR-CALDESC:Events for Calgary Horseshoe Club
REFRESH-INTERVAL;VALUE=DURATION:PT1H
X-Robots-Tag:noindex
X-PUBLISHED-TTL:PT1H
BEGIN:VTIMEZONE
TZID:UTC
BEGIN:STANDARD
TZOFFSETFROM:+0000
TZOFFSETTO:+0000
TZNAME:UTC
DTSTART:20200101T000000
END:STANDARD
END:VTIMEZONE
BEGIN:VEVENT
DTSTART;VALUE=DATE:20211001
DTEND;VALUE=DATE:20211002
DTSTAMP:20260424T203847
CREATED:20210926T150445Z
LAST-MODIFIED:20210926T150445Z
UID:8141-1633046400-1633132799@calgaryhorseshoeclub.ca
SUMMARY:Website goes Live!
DESCRIPTION:New website goes live….
URL:https://calgaryhorseshoeclub.ca/event/website-goes-live/
END:VEVENT
BEGIN:VEVENT
DTSTART;TZID=UTC:20211002T100000
DTEND;TZID=UTC:20211002T150000
DTSTAMP:20260424T203847
CREATED:20210926T173110Z
LAST-MODIFIED:20210926T173110Z
UID:8149-1633168800-1633186800@calgaryhorseshoeclub.ca
SUMMARY:AHPA Annual General Meeting
DESCRIPTION:Lunch will be served courtesy of the Calgary Horseshoe Club
URL:https://calgaryhorseshoeclub.ca/event/ahpa-annual-general-meeting/
END:VEVENT
BEGIN:VEVENT
DTSTART;TZID=UTC:20211003T090000
DTEND;TZID=UTC:20211003T170000
DTSTAMP:20260424T203847
CREATED:20210926T173447Z
LAST-MODIFIED:20210926T173447Z
UID:8151-1633251600-1633280400@calgaryhorseshoeclub.ca
SUMMARY:CHC Winter Tournament
DESCRIPTION:This is not a pre-registered tournament\, however\, the Tournament Director would appreciate a call from those planning to attend.  Please call 403-860-1282
URL:https://calgaryhorseshoeclub.ca/event/chc-winter-tournament/
END:VEVENT
BEGIN:VEVENT
DTSTART;TZID=UTC:20211006T103000
DTEND;TZID=UTC:20211006T140000
DTSTAMP:20260424T203847
CREATED:20210930T160634Z
LAST-MODIFIED:20210930T160634Z
UID:8217-1633516200-1633528800@calgaryhorseshoeclub.ca
SUMMARY:Centennial
DESCRIPTION:Student class
URL:https://calgaryhorseshoeclub.ca/event/centennial/
END:VEVENT
BEGIN:VEVENT
DTSTART;TZID=UTC:20211010T080000
DTEND;TZID=UTC:20211010T170000
DTSTAMP:20260424T203847
CREATED:20211005T150249Z
LAST-MODIFIED:20211005T150249Z
UID:8234-1633852800-1633885200@calgaryhorseshoeclub.ca
SUMMARY:CarCars race
DESCRIPTION:
URL:https://calgaryhorseshoeclub.ca/event/carcars-race/
END:VEVENT
BEGIN:VEVENT
DTSTART;TZID=UTC:20211013T083000
DTEND;TZID=UTC:20211013T153000
DTSTAMP:20260424T203847
CREATED:20210930T160729Z
LAST-MODIFIED:20210930T160729Z
UID:8219-1634113800-1634139000@calgaryhorseshoeclub.ca
SUMMARY:Centennial
DESCRIPTION:Student class
URL:https://calgaryhorseshoeclub.ca/event/centennial-2/
END:VEVENT
BEGIN:VEVENT
DTSTART;TZID=UTC:20211016T130000
DTEND;TZID=UTC:20211016T170000
DTSTAMP:20260424T203847
CREATED:20211015T182327Z
LAST-MODIFIED:20211015T182327Z
UID:8302-1634389200-1634403600@calgaryhorseshoeclub.ca
SUMMARY:Private function
DESCRIPTION:
URL:https://calgaryhorseshoeclub.ca/event/private-function-12/
END:VEVENT
BEGIN:VEVENT
DTSTART;TZID=UTC:20211017T080000
DTEND;TZID=UTC:20211017T170000
DTSTAMP:20260424T203847
CREATED:20211005T150346Z
LAST-MODIFIED:20211005T150346Z
UID:8236-1634457600-1634490000@calgaryhorseshoeclub.ca
SUMMARY:CarCars race
DESCRIPTION:
URL:https://calgaryhorseshoeclub.ca/event/carcars-race-2/
END:VEVENT
BEGIN:VEVENT
DTSTART;TZID=UTC:20211019T183000
DTEND;TZID=UTC:20211019T210000
DTSTAMP:20260424T203847
CREATED:20211015T180348Z
LAST-MODIFIED:20211015T180348Z
UID:8273-1634668200-1634677200@calgaryhorseshoeclub.ca
SUMMARY:League play
DESCRIPTION:
URL:https://calgaryhorseshoeclub.ca/event/league-play-3/
END:VEVENT
BEGIN:VEVENT
DTSTART;TZID=UTC:20211021T123000
DTEND;TZID=UTC:20211021T150000
DTSTAMP:20260424T203847
CREATED:20211015T180900Z
LAST-MODIFIED:20211015T180900Z
UID:8287-1634819400-1634828400@calgaryhorseshoeclub.ca
SUMMARY:League play
DESCRIPTION:
URL:https://calgaryhorseshoeclub.ca/event/league-play-10/
END:VEVENT
BEGIN:VEVENT
DTSTART;TZID=UTC:20211025T083000
DTEND;TZID=UTC:20211025T153000
DTSTAMP:20260424T203847
CREATED:20210930T160817Z
LAST-MODIFIED:20210930T160817Z
UID:8221-1635150600-1635175800@calgaryhorseshoeclub.ca
SUMMARY:Centennial
DESCRIPTION:Student class
URL:https://calgaryhorseshoeclub.ca/event/centennial-3/
END:VEVENT
BEGIN:VEVENT
DTSTART;TZID=UTC:20211026T183000
DTEND;TZID=UTC:20211026T210000
DTSTAMP:20260424T203847
CREATED:20211015T180459Z
LAST-MODIFIED:20211015T180459Z
UID:8275-1635273000-1635282000@calgaryhorseshoeclub.ca
SUMMARY:League play
DESCRIPTION:
URL:https://calgaryhorseshoeclub.ca/event/league-play-4/
END:VEVENT
BEGIN:VEVENT
DTSTART;TZID=UTC:20211027T120000
DTEND;TZID=UTC:20211027T153000
DTSTAMP:20260424T203847
CREATED:20210926T182917Z
LAST-MODIFIED:20210926T182917Z
UID:8204-1635336000-1635348600@calgaryhorseshoeclub.ca
SUMMARY:Western Canada
DESCRIPTION:Student class
URL:https://calgaryhorseshoeclub.ca/event/western-canada/
END:VEVENT
BEGIN:VEVENT
DTSTART;TZID=UTC:20211028T123000
DTEND;TZID=UTC:20211028T150000
DTSTAMP:20260424T203847
CREATED:20211015T180933Z
LAST-MODIFIED:20211015T180933Z
UID:8289-1635424200-1635433200@calgaryhorseshoeclub.ca
SUMMARY:League play
DESCRIPTION:
URL:https://calgaryhorseshoeclub.ca/event/league-play-11/
END:VEVENT
BEGIN:VEVENT
DTSTART;TZID=UTC:20211031T080000
DTEND;TZID=UTC:20211031T170000
DTSTAMP:20260424T203847
CREATED:20211005T150441Z
LAST-MODIFIED:20211005T150441Z
UID:8238-1635667200-1635699600@calgaryhorseshoeclub.ca
SUMMARY:CarCars race
DESCRIPTION:
URL:https://calgaryhorseshoeclub.ca/event/carcars-race-3/
END:VEVENT
END:VCALENDAR