BEGIN:VCALENDAR
VERSION:2.0
PRODID:-//Calgary Horseshoe Club - ECPv6.15.20//NONSGML v1.0//EN
CALSCALE:GREGORIAN
METHOD:PUBLISH
X-WR-CALNAME:Calgary Horseshoe Club
X-ORIGINAL-URL:https://calgaryhorseshoeclub.ca
X-WR-CALDESC:Events for Calgary Horseshoe Club
REFRESH-INTERVAL;VALUE=DURATION:PT1H
X-Robots-Tag:noindex
X-PUBLISHED-TTL:PT1H
BEGIN:VTIMEZONE
TZID:UTC
BEGIN:STANDARD
TZOFFSETFROM:+0000
TZOFFSETTO:+0000
TZNAME:UTC
DTSTART:20210101T000000
END:STANDARD
END:VTIMEZONE
BEGIN:VEVENT
DTSTART;TZID=UTC:20221101T083000
DTEND;TZID=UTC:20221101T094500
DTSTAMP:20260422T161359
CREATED:20220627T204306Z
LAST-MODIFIED:20221024T055730Z
UID:8523-1667291400-1667295900@calgaryhorseshoeclub.ca
SUMMARY:Forest Lawn High School
DESCRIPTION:Student class (1)
URL:https://calgaryhorseshoeclub.ca/event/forest-lawn-high-school-2/
END:VEVENT
BEGIN:VEVENT
DTSTART;TZID=UTC:20221107T090000
DTEND;TZID=UTC:20221107T140000
DTSTAMP:20260422T161359
CREATED:20220923T201333Z
LAST-MODIFIED:20220923T201355Z
UID:8556-1667811600-1667829600@calgaryhorseshoeclub.ca
SUMMARY:Centennial
DESCRIPTION:student class  930 – 1015  100 – 145  2 classes
URL:https://calgaryhorseshoeclub.ca/event/centennial-14/
END:VEVENT
BEGIN:VEVENT
DTSTART;TZID=UTC:20221108T100000
DTEND;TZID=UTC:20221108T170000
DTSTAMP:20260422T161359
CREATED:20220923T202849Z
LAST-MODIFIED:20220923T202900Z
UID:8570-1667901600-1667926800@calgaryhorseshoeclub.ca
SUMMARY:Bingo
DESCRIPTION:Contact Dianne Beck 403-860-1282
URL:https://calgaryhorseshoeclub.ca/event/bingo-2/
END:VEVENT
BEGIN:VEVENT
DTSTART;TZID=UTC:20221109T084500
DTEND;TZID=UTC:20221109T153000
DTSTAMP:20260422T161359
CREATED:20220630T180455Z
LAST-MODIFIED:20220630T180506Z
UID:8530-1667983500-1668007800@calgaryhorseshoeclub.ca
SUMMARY:Cardinal Schubert
DESCRIPTION:Student class \n9:10-10:10\, 10:50-11:50\, 12:40-1:40\, 2:20-3:20 \n4 classes
URL:https://calgaryhorseshoeclub.ca/event/cardinal-schubert-10/
END:VEVENT
BEGIN:VEVENT
DTSTART;TZID=UTC:20221114T084500
DTEND;TZID=UTC:20221114T153000
DTSTAMP:20260422T161359
CREATED:20220630T180704Z
LAST-MODIFIED:20220630T180719Z
UID:8534-1668415500-1668439800@calgaryhorseshoeclub.ca
SUMMARY:Cardinal Schubert
DESCRIPTION:Student class \n9:10-10:10\, 10:50-11:50\, 12:40-1:40\, 2:20-3:20 \n4 classes
URL:https://calgaryhorseshoeclub.ca/event/cardinal-schubert-11/
END:VEVENT
BEGIN:VEVENT
DTSTART;TZID=UTC:20221115T084500
DTEND;TZID=UTC:20221115T120000
DTSTAMP:20260422T161359
CREATED:20220630T181152Z
LAST-MODIFIED:20220630T181200Z
UID:8538-1668501900-1668513600@calgaryhorseshoeclub.ca
SUMMARY:Cardinal Schubert
DESCRIPTION:Student classes \n9:10-10:10\, 10:50-11:50 \n2 classes
URL:https://calgaryhorseshoeclub.ca/event/cardinal-schubert-13/
END:VEVENT
BEGIN:VEVENT
DTSTART;TZID=UTC:20221116T083000
DTEND;TZID=UTC:20221116T160000
DTSTAMP:20260422T161359
CREATED:20220923T201821Z
LAST-MODIFIED:20220923T201833Z
UID:8560-1668587400-1668614400@calgaryhorseshoeclub.ca
SUMMARY:EP Scarlett
DESCRIPTION:student class  900 – 1000  1045 – 1145  230 – 330  3 classes
URL:https://calgaryhorseshoeclub.ca/event/ep-scarlett-8/
END:VEVENT
BEGIN:VEVENT
DTSTART;TZID=UTC:20221117T090000
DTEND;TZID=UTC:20221117T153000
DTSTAMP:20260422T161359
CREATED:20220923T202003Z
LAST-MODIFIED:20220923T202503Z
UID:8562-1668675600-1668699000@calgaryhorseshoeclub.ca
SUMMARY:Centennial
DESCRIPTION:student class  930 – 1015  230 – 315  2 classes
URL:https://calgaryhorseshoeclub.ca/event/centennial-15/
END:VEVENT
BEGIN:VEVENT
DTSTART;TZID=UTC:20221119T120000
DTEND;TZID=UTC:20221119T210000
DTSTAMP:20260422T161359
CREATED:20220923T202327Z
LAST-MODIFIED:20220923T202355Z
UID:8566-1668859200-1668891600@calgaryhorseshoeclub.ca
SUMMARY:Private Event
DESCRIPTION:
URL:https://calgaryhorseshoeclub.ca/event/private-event-2/
END:VEVENT
BEGIN:VEVENT
DTSTART;TZID=UTC:20221122T084500
DTEND;TZID=UTC:20221122T153000
DTSTAMP:20260422T161359
CREATED:20220630T180907Z
LAST-MODIFIED:20220630T180925Z
UID:8536-1669106700-1669131000@calgaryhorseshoeclub.ca
SUMMARY:Cardinal Schubert
DESCRIPTION:Student class \n9:15-10:15\, 11:00-12:00\, 12:45-1:45\, 2:30-3:30 \n4 classes
URL:https://calgaryhorseshoeclub.ca/event/cardinal-schubert-12/
END:VEVENT
BEGIN:VEVENT
DTSTART;TZID=UTC:20221125T100000
DTEND;TZID=UTC:20221125T170000
DTSTAMP:20260422T161359
CREATED:20220923T202110Z
LAST-MODIFIED:20220923T202154Z
UID:8564-1669370400-1669395600@calgaryhorseshoeclub.ca
SUMMARY:Bingo
DESCRIPTION:Contact Dianne Beck 403-860-1282
URL:https://calgaryhorseshoeclub.ca/event/bingo-3/
END:VEVENT
BEGIN:VEVENT
DTSTART;TZID=UTC:20221125T160000
DTEND;TZID=UTC:20221127T180000
DTSTAMP:20260422T161359
CREATED:20220923T202648Z
LAST-MODIFIED:20220923T202701Z
UID:8568-1669392000-1669572000@calgaryhorseshoeclub.ca
SUMMARY:CARCARS
DESCRIPTION:Major race
URL:https://calgaryhorseshoeclub.ca/event/carcars/
END:VEVENT
BEGIN:VEVENT
DTSTART;TZID=UTC:20221130T103000
DTEND;TZID=UTC:20221130T160000
DTSTAMP:20260422T161359
CREATED:20220923T203225Z
LAST-MODIFIED:20220923T203241Z
UID:8572-1669804200-1669824000@calgaryhorseshoeclub.ca
SUMMARY:EP Scarlett
DESCRIPTION:student class  1045 – 1145  1230 – 130  230 – 330  3 classes
URL:https://calgaryhorseshoeclub.ca/event/ep-scarlett-9/
END:VEVENT
END:VCALENDAR