BEGIN:VCALENDAR
VERSION:2.0
PRODID:-//Calgary Horseshoe Club - ECPv6.15.20//NONSGML v1.0//EN
CALSCALE:GREGORIAN
METHOD:PUBLISH
X-WR-CALNAME:Calgary Horseshoe Club
X-ORIGINAL-URL:https://calgaryhorseshoeclub.ca
X-WR-CALDESC:Events for Calgary Horseshoe Club
REFRESH-INTERVAL;VALUE=DURATION:PT1H
X-Robots-Tag:noindex
X-PUBLISHED-TTL:PT1H
BEGIN:VTIMEZONE
TZID:UTC
BEGIN:STANDARD
TZOFFSETFROM:+0000
TZOFFSETTO:+0000
TZNAME:UTC
DTSTART:20210101T000000
END:STANDARD
END:VTIMEZONE
BEGIN:VEVENT
DTSTART;TZID=UTC:20221201T143000
DTEND;TZID=UTC:20221201T153000
DTSTAMP:20260422T175551
CREATED:20221128T080608Z
LAST-MODIFIED:20221207T011318Z
UID:8591-1669905000-1669908600@calgaryhorseshoeclub.ca
SUMMARY:Forest Lawn High School
DESCRIPTION:Student Class (1)
URL:https://calgaryhorseshoeclub.ca/event/forest-lawn-high-school-5/
END:VEVENT
BEGIN:VEVENT
DTSTART;TZID=UTC:20221204T170000
DTEND;TZID=UTC:20221204T210000
DTSTAMP:20260422T175551
CREATED:20221114T010937Z
LAST-MODIFIED:20221207T011551Z
UID:8593-1670173200-1670187600@calgaryhorseshoeclub.ca
SUMMARY:Blue Knights AB V Calgary
DESCRIPTION:
URL:https://calgaryhorseshoeclub.ca/event/private-event-3/
END:VEVENT
BEGIN:VEVENT
DTSTART;TZID=UTC:20221210T140000
DTEND;TZID=UTC:20221210T180000
DTSTAMP:20260422T175551
CREATED:20221207T013559Z
LAST-MODIFIED:20221207T013559Z
UID:8603-1670680800-1670695200@calgaryhorseshoeclub.ca
SUMMARY:Private Event
DESCRIPTION:
URL:https://calgaryhorseshoeclub.ca/event/private-event-7/
END:VEVENT
BEGIN:VEVENT
DTSTART;TZID=UTC:20221214T100000
DTEND;TZID=UTC:20221214T170000
DTSTAMP:20260422T175551
CREATED:20220923T203332Z
LAST-MODIFIED:20220923T203332Z
UID:8574-1671012000-1671037200@calgaryhorseshoeclub.ca
SUMMARY:Bingo
DESCRIPTION:Contact Dianne Beck 403-860-1282
URL:https://calgaryhorseshoeclub.ca/event/bingo-4/
END:VEVENT
BEGIN:VEVENT
DTSTART;TZID=UTC:20221214T120000
DTEND;TZID=UTC:20221214T160000
DTSTAMP:20260422T175551
CREATED:20221207T011128Z
LAST-MODIFIED:20221207T011128Z
UID:8595-1671019200-1671033600@calgaryhorseshoeclub.ca
SUMMARY:Private Event
DESCRIPTION:
URL:https://calgaryhorseshoeclub.ca/event/private-event-4/
END:VEVENT
BEGIN:VEVENT
DTSTART;TZID=UTC:20221214T180000
DTEND;TZID=UTC:20221214T210000
DTSTAMP:20260422T175551
CREATED:20221207T011413Z
LAST-MODIFIED:20221207T011413Z
UID:8597-1671040800-1671051600@calgaryhorseshoeclub.ca
SUMMARY:Private Event
DESCRIPTION:
URL:https://calgaryhorseshoeclub.ca/event/private-event-5/
END:VEVENT
END:VCALENDAR