BEGIN:VCALENDAR
VERSION:2.0
PRODID:-//Calgary Horseshoe Club - ECPv6.15.20//NONSGML v1.0//EN
CALSCALE:GREGORIAN
METHOD:PUBLISH
X-WR-CALNAME:Calgary Horseshoe Club
X-ORIGINAL-URL:https://calgaryhorseshoeclub.ca
X-WR-CALDESC:Events for Calgary Horseshoe Club
REFRESH-INTERVAL;VALUE=DURATION:PT1H
X-Robots-Tag:noindex
X-PUBLISHED-TTL:PT1H
BEGIN:VTIMEZONE
TZID:UTC
BEGIN:STANDARD
TZOFFSETFROM:+0000
TZOFFSETTO:+0000
TZNAME:UTC
DTSTART:20220101T000000
END:STANDARD
END:VTIMEZONE
BEGIN:VEVENT
DTSTART;TZID=UTC:20230211T130000
DTEND;TZID=UTC:20230211T163000
DTSTAMP:20260422T205558
CREATED:20230105T212933Z
LAST-MODIFIED:20230105T212940Z
UID:8612-1676120400-1676133000@calgaryhorseshoeclub.ca
SUMMARY:Cribbage tournament
DESCRIPTION:Contact Dianne Beck 403-860-1282 for entry or questions
URL:https://calgaryhorseshoeclub.ca/event/cribbage-tournament-7/
END:VEVENT
BEGIN:VEVENT
DTSTART;TZID=UTC:20230218T090000
DTEND;TZID=UTC:20230219T170000
DTSTAMP:20260422T205558
CREATED:20230105T213105Z
LAST-MODIFIED:20230105T213114Z
UID:8614-1676710800-1676826000@calgaryhorseshoeclub.ca
SUMMARY:Horseshoe tournament
DESCRIPTION:Pre-registered tournament – contact Dianne Beck 403-860-1282 for entry
URL:https://calgaryhorseshoeclub.ca/event/horseshoe-tournament-6/
END:VEVENT
BEGIN:VEVENT
DTSTART;TZID=UTC:20230221T103000
DTEND;TZID=UTC:20230221T153000
DTSTAMP:20260422T205558
CREATED:20230117T204130Z
LAST-MODIFIED:20230117T204140Z
UID:8621-1676975400-1676993400@calgaryhorseshoeclub.ca
SUMMARY:EP Scarlett
DESCRIPTION:Student classes  (3) \n11-12  1230-1330  230-330
URL:https://calgaryhorseshoeclub.ca/event/ep-scarlett-11/
END:VEVENT
BEGIN:VEVENT
DTSTART;TZID=UTC:20230225T140000
DTEND;TZID=UTC:20230225T200000
DTSTAMP:20260422T205558
CREATED:20230205T155155Z
LAST-MODIFIED:20230205T155201Z
UID:8663-1677333600-1677355200@calgaryhorseshoeclub.ca
SUMMARY:Private function
DESCRIPTION:Kyle May
URL:https://calgaryhorseshoeclub.ca/event/private-function-16/
END:VEVENT
BEGIN:VEVENT
DTSTART;TZID=UTC:20230227T083000
DTEND;TZID=UTC:20230227T153000
DTSTAMP:20260422T205558
CREATED:20230117T204312Z
LAST-MODIFIED:20230117T204312Z
UID:8623-1677486600-1677511800@calgaryhorseshoeclub.ca
SUMMARY:EP Scarlett
DESCRIPTION:Student classes (4) \n9-10  11-12  1230-1330  230-330
URL:https://calgaryhorseshoeclub.ca/event/ep-scarlett-12/
END:VEVENT
BEGIN:VEVENT
DTSTART;TZID=UTC:20230228T103000
DTEND;TZID=UTC:20230228T153000
DTSTAMP:20260422T205558
CREATED:20230117T204545Z
LAST-MODIFIED:20230117T204553Z
UID:8625-1677580200-1677598200@calgaryhorseshoeclub.ca
SUMMARY:Centennial
DESCRIPTION:Student classes (2) \n11-12  230-330
URL:https://calgaryhorseshoeclub.ca/event/centennial-16/
END:VEVENT
END:VCALENDAR