BEGIN:VCALENDAR
VERSION:2.0
PRODID:-//Calgary Horseshoe Club - ECPv6.15.20//NONSGML v1.0//EN
CALSCALE:GREGORIAN
METHOD:PUBLISH
X-ORIGINAL-URL:https://calgaryhorseshoeclub.ca
X-WR-CALDESC:Events for Calgary Horseshoe Club
REFRESH-INTERVAL;VALUE=DURATION:PT1H
X-Robots-Tag:noindex
X-PUBLISHED-TTL:PT1H
BEGIN:VTIMEZONE
TZID:UTC
BEGIN:STANDARD
TZOFFSETFROM:+0000
TZOFFSETTO:+0000
TZNAME:UTC
DTSTART:20220101T000000
END:STANDARD
END:VTIMEZONE
BEGIN:VEVENT
DTSTART;TZID=UTC:20230324T080000
DTEND;TZID=UTC:20230326T170000
DTSTAMP:20260422T223808
CREATED:20230107T201344Z
LAST-MODIFIED:20230107T201353Z
UID:8618-1679644800-1679850000@calgaryhorseshoeclub.ca
SUMMARY:Carcars
DESCRIPTION:Major racing event
URL:https://calgaryhorseshoeclub.ca/event/carcars-2/
END:VEVENT
END:VCALENDAR