BEGIN:VCALENDAR
VERSION:2.0
PRODID:-//Calgary Horseshoe Club - ECPv6.15.20//NONSGML v1.0//EN
CALSCALE:GREGORIAN
METHOD:PUBLISH
X-WR-CALNAME:Calgary Horseshoe Club
X-ORIGINAL-URL:https://calgaryhorseshoeclub.ca
X-WR-CALDESC:Events for Calgary Horseshoe Club
REFRESH-INTERVAL;VALUE=DURATION:PT1H
X-Robots-Tag:noindex
X-PUBLISHED-TTL:PT1H
BEGIN:VTIMEZONE
TZID:UTC
BEGIN:STANDARD
TZOFFSETFROM:+0000
TZOFFSETTO:+0000
TZNAME:UTC
DTSTART:20220101T000000
END:STANDARD
END:VTIMEZONE
BEGIN:VEVENT
DTSTART;TZID=UTC:20230701T080000
DTEND;TZID=UTC:20230702T170000
DTSTAMP:20260423T051545
CREATED:20230526T171213Z
LAST-MODIFIED:20230526T171225Z
UID:8687-1688198400-1688317200@calgaryhorseshoeclub.ca
SUMMARY:Western Canada Classic
DESCRIPTION:This is a two day tournament \nContact Jane Cordingley at 403-560-7185 for registration and questions
URL:https://calgaryhorseshoeclub.ca/event/western-canada-classic/
END:VEVENT
BEGIN:VEVENT
DTSTART;TZID=UTC:20230707T120000
DTEND;TZID=UTC:20230707T140000
DTSTAMP:20260423T051545
CREATED:20230526T172116Z
LAST-MODIFIED:20230526T172116Z
UID:8703-1688731200-1688738400@calgaryhorseshoeclub.ca
SUMMARY:Private Function
DESCRIPTION:
URL:https://calgaryhorseshoeclub.ca/event/private-function-23/
END:VEVENT
BEGIN:VEVENT
DTSTART;TZID=UTC:20230708T140000
DTEND;TZID=UTC:20230708T170000
DTSTAMP:20260423T051545
CREATED:20230526T172155Z
LAST-MODIFIED:20230526T172155Z
UID:8705-1688824800-1688835600@calgaryhorseshoeclub.ca
SUMMARY:Private Function
DESCRIPTION:
URL:https://calgaryhorseshoeclub.ca/event/private-function-24/
END:VEVENT
BEGIN:VEVENT
DTSTART;TZID=UTC:20230712T093000
DTEND;TZID=UTC:20230712T160000
DTSTAMP:20260423T051545
CREATED:20230526T172313Z
LAST-MODIFIED:20230526T172326Z
UID:8707-1689154200-1689177600@calgaryhorseshoeclub.ca
SUMMARY:Private Function
DESCRIPTION:Shoemaker \nWill be playing outside having access to inside.
URL:https://calgaryhorseshoeclub.ca/event/private-function-25/
END:VEVENT
END:VCALENDAR