BEGIN:VCALENDAR
VERSION:2.0
PRODID:-//Calgary Horseshoe Club - ECPv6.15.20//NONSGML v1.0//EN
CALSCALE:GREGORIAN
METHOD:PUBLISH
X-ORIGINAL-URL:https://calgaryhorseshoeclub.ca
X-WR-CALDESC:Events for Calgary Horseshoe Club
REFRESH-INTERVAL;VALUE=DURATION:PT1H
X-Robots-Tag:noindex
X-PUBLISHED-TTL:PT1H
BEGIN:VTIMEZONE
TZID:UTC
BEGIN:STANDARD
TZOFFSETFROM:+0000
TZOFFSETTO:+0000
TZNAME:UTC
DTSTART:20220101T000000
END:STANDARD
END:VTIMEZONE
BEGIN:VEVENT
DTSTART;TZID=UTC:20230919T170000
DTEND;TZID=UTC:20230921T220000
DTSTAMP:20260423T081624
CREATED:20230105T213223Z
LAST-MODIFIED:20230105T213231Z
UID:8616-1695142800-1695333600@calgaryhorseshoeclub.ca
SUMMARY:Calgary Corporate Challenge
DESCRIPTION:Horseshoe event
URL:https://calgaryhorseshoeclub.ca/event/calgary-corporate-challenge-6/
END:VEVENT
END:VCALENDAR