BEGIN:VCALENDAR
VERSION:2.0
PRODID:-//Calgary Horseshoe Club - ECPv6.15.20//NONSGML v1.0//EN
CALSCALE:GREGORIAN
METHOD:PUBLISH
X-ORIGINAL-URL:https://calgaryhorseshoeclub.ca
X-WR-CALDESC:Events for Calgary Horseshoe Club
REFRESH-INTERVAL;VALUE=DURATION:PT1H
X-Robots-Tag:noindex
X-PUBLISHED-TTL:PT1H
BEGIN:VTIMEZONE
TZID:UTC
BEGIN:STANDARD
TZOFFSETFROM:+0000
TZOFFSETTO:+0000
TZNAME:UTC
DTSTART:20230101T000000
END:STANDARD
END:VTIMEZONE
BEGIN:VEVENT
DTSTART;TZID=UTC:20240104T100000
DTEND;TZID=UTC:20240104T140000
DTSTAMP:20260423T145008
CREATED:20231228T224148Z
LAST-MODIFIED:20231228T224209Z
UID:8808-1704362400-1704376800@calgaryhorseshoeclub.ca
SUMMARY:Thursday League Start
DESCRIPTION:Registration by 10:30 am.  Play by 11:00 am.
URL:https://calgaryhorseshoeclub.ca/event/thursday-league/
END:VEVENT
BEGIN:VEVENT
DTSTART;TZID=UTC:20240108T180000
DTEND;TZID=UTC:20240108T220000
DTSTAMP:20260423T145008
CREATED:20231228T224410Z
LAST-MODIFIED:20231228T224410Z
UID:8812-1704736800-1704751200@calgaryhorseshoeclub.ca
SUMMARY:Disc Golf
DESCRIPTION:
URL:https://calgaryhorseshoeclub.ca/event/disc-golf-23/
END:VEVENT
BEGIN:VEVENT
DTSTART;TZID=UTC:20240109T090000
DTEND;TZID=UTC:20240109T140000
DTSTAMP:20260423T145008
CREATED:20231228T233323Z
LAST-MODIFIED:20231228T233323Z
UID:8839-1704790800-1704808800@calgaryhorseshoeclub.ca
SUMMARY:Centennial
DESCRIPTION:Student class (2) 0930-1015  1300-1345
URL:https://calgaryhorseshoeclub.ca/event/centennial-23/
END:VEVENT
BEGIN:VEVENT
DTSTART;TZID=UTC:20240109T180000
DTEND;TZID=UTC:20240109T220000
DTSTAMP:20260423T145008
CREATED:20231228T223655Z
LAST-MODIFIED:20231228T224248Z
UID:8804-1704823200-1704837600@calgaryhorseshoeclub.ca
SUMMARY:Tuesday League Start
DESCRIPTION:Registration by 6:30 pm.  Play 7:00 pm.
URL:https://calgaryhorseshoeclub.ca/event/tuesday-league/
END:VEVENT
BEGIN:VEVENT
DTSTART;TZID=UTC:20240110T090000
DTEND;TZID=UTC:20240110T153000
DTSTAMP:20260423T145008
CREATED:20231228T233427Z
LAST-MODIFIED:20231228T233434Z
UID:8842-1704877200-1704900600@calgaryhorseshoeclub.ca
SUMMARY:Centennial
DESCRIPTION:Student class (2)  0930-1015  1430-1515
URL:https://calgaryhorseshoeclub.ca/event/centennial-24/
END:VEVENT
BEGIN:VEVENT
DTSTART;TZID=UTC:20240113T130000
DTEND;TZID=UTC:20240113T170000
DTSTAMP:20260423T145008
CREATED:20231228T223526Z
LAST-MODIFIED:20240112T041537Z
UID:8802-1705150800-1705165200@calgaryhorseshoeclub.ca
SUMMARY:Cribbage - Cancelled
DESCRIPTION:For registration and information contact Dianne Beck 403-860-1282
URL:https://calgaryhorseshoeclub.ca/event/cribbage-3/
END:VEVENT
BEGIN:VEVENT
DTSTART;TZID=UTC:20240115T180000
DTEND;TZID=UTC:20240115T220000
DTSTAMP:20260423T145008
CREATED:20231228T224445Z
LAST-MODIFIED:20231228T224454Z
UID:8814-1705341600-1705356000@calgaryhorseshoeclub.ca
SUMMARY:Disc Golf
DESCRIPTION:
URL:https://calgaryhorseshoeclub.ca/event/disc-golf-24/
END:VEVENT
BEGIN:VEVENT
DTSTART;TZID=UTC:20240120T090000
DTEND;TZID=UTC:20240120T170000
DTSTAMP:20260423T145008
CREATED:20231216T232402Z
LAST-MODIFIED:20231218T190136Z
UID:8782-1705741200-1705770000@calgaryhorseshoeclub.ca
SUMMARY:Calgary January Tournament
DESCRIPTION:For registration and information contact Dianne Beck 403-860-1282
URL:https://calgaryhorseshoeclub.ca/event/calgary-january-tournament/
END:VEVENT
BEGIN:VEVENT
DTSTART;TZID=UTC:20240122T180000
DTEND;TZID=UTC:20240122T220000
DTSTAMP:20260423T145008
CREATED:20231228T224529Z
LAST-MODIFIED:20231228T224529Z
UID:8816-1705946400-1705960800@calgaryhorseshoeclub.ca
SUMMARY:Disc Golf
DESCRIPTION:
URL:https://calgaryhorseshoeclub.ca/event/disc-golf-25/
END:VEVENT
BEGIN:VEVENT
DTSTART;TZID=UTC:20240127T120000
DTEND;TZID=UTC:20240127T180000
DTSTAMP:20260423T145008
CREATED:20231228T223922Z
LAST-MODIFIED:20231228T223934Z
UID:8806-1706356800-1706378400@calgaryhorseshoeclub.ca
SUMMARY:Private Function
DESCRIPTION:Sarcee Fish and Game \n 
URL:https://calgaryhorseshoeclub.ca/event/private-function-29/
END:VEVENT
BEGIN:VEVENT
DTSTART;TZID=UTC:20240129T180000
DTEND;TZID=UTC:20240129T220000
DTSTAMP:20260423T145008
CREATED:20231228T224605Z
LAST-MODIFIED:20231228T224605Z
UID:8818-1706551200-1706565600@calgaryhorseshoeclub.ca
SUMMARY:Disc Golf
DESCRIPTION:
URL:https://calgaryhorseshoeclub.ca/event/disc-golf-26/
END:VEVENT
END:VCALENDAR